BEGIN:VCALENDAR
VERSION:2.0
PRODID:spatie/icalendar-generator
DESCRIPTION:Events from Real Variety Radio: The best variety on the Interne
 t!
X-WR-CALDESC:Events from Real Variety Radio: The best variety on the Intern
 et!
REFRESH-INTERVAL;VALUE=DURATION:PT1440M
X-PUBLISHED-TTL:PT1440M
BEGIN:VTIMEZONE
TZID:Etc/GMT+6
BEGIN:STANDARD
DTSTART:20221209T000000Z
TZOFFSETFROM:-0600
TZOFFSETTO:-0600
END:STANDARD
END:VTIMEZONE
BEGIN:VTIMEZONE
TZID:UTC
BEGIN:STANDARD
DTSTART:20250725T094226Z
TZOFFSETFROM:+0000
TZOFFSETTO:+0000
END:STANDARD
END:VTIMEZONE
BEGIN:VEVENT
UID:615-615
DTSTAMP:20260421T094226Z
SUMMARY:Real Variety Overnight
LOCATION:
ORGANIZER;CN=Public Submitter:MAILTO:
DTSTART;TZID=Etc/GMT+6:20230905T000000
DTEND;TZID=Etc/GMT+6:20230905T050000
X-ALT-DESC;FMTTYPE=TEXT/HTML:Are you a night owl or needing to stay up to g
 et important stuf f done? Well this segment of programming has you covered
 . We play all the g enres of music on this station randomized to get you t
 hrough the overnight.
CATEGORIES:General
URL;VALUE=URI:https://realvarietyradio.com/mc-events/real-variety-overnight
 /
METHOD:PUBLISH
END:VEVENT
END:VCALENDAR